BEGIN:VCALENDAR
VERSION:2.0
PRODID:-//DeckCMS//Events//EN
BEGIN:VEVENT
UID:019db120-0539-734b-98ea-3fd925f7529a@oconee.deckcms.com
DTSTAMP:20260421T232018Z
SUMMARY:Ribbon Cutting - Willow Lane Cottage & Gifts
DESCRIPTION:
DTSTART:20260515T153000Z
DTEND:20260515T160000Z
LOCATION:118 E Main Street\, Walhalla\, SC\, 29691
END:VEVENT
END:VCALENDAR
