BEGIN:VCALENDAR
VERSION:2.0
PRODID:-//DeckCMS//Events//EN
BEGIN:VEVENT
UID:019db115-64d5-72cc-8bff-6fcdaddc2acf@oconee.deckcms.com
DTSTAMP:20260421T231825Z
SUMMARY:Ribbon Cutting - The Wellness Haven
DESCRIPTION:
DTSTART:20260513T143000Z
DTEND:20260513T150000Z
END:VEVENT
END:VCALENDAR
