BEGIN:VCALENDAR
VERSION:2.0
PRODID:-//DeckCMS//Events//EN
BEGIN:VEVENT
UID:019dac5a-c666-70f6-a270-301056a115e4@oconee.deckcms.com
DTSTAMP:20260421T231955Z
SUMMARY:Coffee & Commerce
DESCRIPTION:
DTSTART:20260506T120000Z
DTEND:20260506T130000Z
END:VEVENT
END:VCALENDAR
