BEGIN:VCALENDAR
VERSION:2.0
PRODID:-//DeckCMS//Events//EN
BEGIN:VEVENT
UID:019d96c5-6f0f-70ec-9dab-c789e7368fc0@oconee.deckcms.com
DTSTAMP:20260421T233937Z
SUMMARY:Community Breakfast - The Arts in Oconee County
DESCRIPTION:The Community Breakfast is a collaborative event hosted by the 
 Oconee Chamber of Commerce and the Oconee Economic Alliance\, occurs ten t
 imes a year. This event brings together business leaders\, community stake
 holders\, and decision-makers to discuss key issues shaping Oconee County.
  These meetings provide valuable insights\, connect resources\, and foster
  meaningful discussions that lead to real solutions for our community. Itâ
 €™s also a prime opportunity for businesses and non-profits to engage wi
DTSTART:20260501T123000Z
DTEND:20260501T140000Z
LOCATION:2328 Sandifer Blvd\, Westminster\, SC
END:VEVENT
END:VCALENDAR
