BEGIN:VCALENDAR
VERSION:2.0
PRODID:-//DeckCMS//Events//EN
BEGIN:VEVENT
UID:019d96be-9ffb-7223-b731-c5f3cdcb6d3d@oconee.deckcms.com
DTSTAMP:20260421T203021Z
SUMMARY:Chamber Chatter
DESCRIPTION:Join us for Chamber Chatter\, our monthly gathering designed to
  spotlight new businesses and foster connections within our community. New
  business owners will have the chance to introduce themselves\, talk about
  their business\, and start building valuable relationships. Meanwhile\, e
 stablished businesses can strengthen existing connections and stay informe
 d about upcoming Chamber events. It’s the perfect blend of networking\, 
 collaboration\, and community growth!
DTSTART:20260429T120000Z
DTEND:20260429T130000Z
LOCATION:938 Bypass 123\, Seneca\, SC
END:VEVENT
END:VCALENDAR
