BEGIN:VCALENDAR
VERSION:2.0
PRODID:-//DeckCMS//Events//EN
BEGIN:VEVENT
UID:019d96bc-3c5e-7047-bf42-7134dc776637@oconee.deckcms.com
DTSTAMP:20260421T203507Z
SUMMARY:New Wave Collective Kickoff
DESCRIPTION:New Wave Collective is officially launching\, and we’re kicki
 ng things off with a night built for connection. This kickoff event brings
  together people who want to meet new faces\, build real connections\, and
  have fun doing it. This group is designed for community members between 1
 8 - 40 years old.
DTSTART:20260428T213000Z
DTEND:20260428T233000Z
LOCATION:1750 Blue Ridge Blvd\, Seneca\, SC\, 29672
END:VEVENT
END:VCALENDAR
