BEGIN:VCALENDAR
VERSION:2.0
PRODID:-//DeckCMS//Events//EN
BEGIN:VEVENT
UID:019d96af-9a6b-7345-8454-c0e64d3acd0b@oconee.deckcms.com
DTSTAMP:20260421T202242Z
SUMMARY:Ribbon Cutting - Lake Keowee Real Estate
DESCRIPTION:
DTSTART:20260428T203000Z
DTEND:20260428T210000Z
LOCATION:100 Century Plaza Drive\, Seneca\, SC\, 29678
END:VEVENT
END:VCALENDAR
