BEGIN:VCALENDAR
VERSION:2.0
PRODID:-//DeckCMS//Events//EN
BEGIN:VEVENT
UID:019d92a3-f5e9-7254-850e-3bba16c5af67@oconee.deckcms.com
DTSTAMP:20260421T203329Z
SUMMARY:BOOSTED After Hours
DESCRIPTION:Our monthly Boosted Business After Hours event provides a casua
 l atmosphere with premier networking opportunities. Business leaders are e
 ncouraged to bring guests to maximize the potential partnerships within ou
 r community! This is our best attended monthly event with between 100 – 
 250 people regularly attending.
DTSTART:20260423T213000Z
DTEND:20260423T233000Z
LOCATION:13050 Clemson Blvd\, Seneca\, SC\, 29678
END:VEVENT
END:VCALENDAR
