BEGIN:VCALENDAR
VERSION:2.0
PRODID:-//DeckCMS//Events//EN
BEGIN:VEVENT
UID:019d8d6f-05ff-7063-8409-2bc0fb19f41b@oconee.deckcms.com
DTSTAMP:20260421T203637Z
SUMMARY:Minority Business Lunch N Learn
DESCRIPTION:The Minority Business Group is dedicated to celebrating and sup
 porting minority-owned businesses and professionals. Through engaging even
 ts like lunch and learns\, this group provides valuable opportunities to n
 etwork\, enhance professional skills\, and build meaningful connections wi
 thin the business community. Join us to grow together and make an impact!
DTSTART:20260421T160000Z
DTEND:20260421T173000Z
END:VEVENT
END:VCALENDAR
