BEGIN:VCALENDAR
VERSION:2.0
PRODID:-//DeckCMS//Events//EN
BEGIN:VEVENT
UID:019d87cd-9cf9-727c-b6a3-a9c36e676b2e@oconee.deckcms.com
DTSTAMP:20260421T202828Z
SUMMARY:Seneca Off the Clock & Ribbon Cutting ... Derby Edition
DESCRIPTION:Through the City of Seneca\, Chudyk Financial Services and Insu
 rance Group is hosting an Off the Clock event from 530-730 on Wednesday Ap
 ril 29th. Come network with us\, bet on your horse\, make your own mint ju
 lep (alcoholic or non-alcoholic)\, enjoy live music\, and have a great tim
 e! There will be light refreshments as well. \n\nRibbon Cutting starts at 
 6pm! \n\nParking will be held across the street at Performance Powersports
  and there will be help from Seneca PD getting across the street safely.
DTSTART:20260429T213000Z
DTEND:20260429T233000Z
LOCATION:916 E North 1st St\, Seneca\, SC\, 29678
END:VEVENT
END:VCALENDAR
