BEGIN:VCALENDAR
VERSION:2.0
PRODID:-//DeckCMS//Events//EN
BEGIN:VEVENT
UID:019d8480-3f07-7045-8fff-3378af642ac3@oconee.deckcms.com
DTSTAMP:20260421T203729Z
SUMMARY:Mother's Day Coloring Contest
DESCRIPTION:Anyone in the community can stop by our local office at 10239 C
 lemson Blvd (Suite 150) and pick up a coloring sheet.
DTSTART:20260421T013700Z
DTEND:20260508T013700Z
LOCATION:10239 Clemson Blvd\, Seneca\, SC\, 29678
END:VEVENT
END:VCALENDAR
