BEGIN:VCALENDAR
VERSION:2.0
PRODID:-//DeckCMS//Events//EN
BEGIN:VEVENT
UID:019d779d-4e16-72f3-878d-41e13be84d7a@oconee.deckcms.com
DTSTAMP:20260421T232141Z
SUMMARY:PUTT FOR PARKINSON'S
DESCRIPTION:Support the Foothills Area YMCA in the fight against Parkinson'
 s.
DTSTART:20260511T193000Z
DTEND:20260511T230000Z
LOCATION:170 Hackberry Lane\, Seneca\, SC\, 29678
END:VEVENT
END:VCALENDAR
