BEGIN:VCALENDAR
VERSION:2.0
PRODID:-//DeckCMS//Events//EN
BEGIN:VEVENT
UID:019d7798-a726-70da-93aa-8b761af4b5c1@oconee.deckcms.com
DTSTAMP:20260421T201554Z
SUMMARY:HEALTHY KIDS DAY
DESCRIPTION:FREE EVENT FOR THE WHOLE COMMUNITY! Join us to celebrate and cr
 eate lifelong memories with the entire family.
DTSTART:20260418T140000Z
DTEND:20260418T180000Z
LOCATION:2063 Sandifer Blvd\, Seneca\, SC\, 29678
END:VEVENT
END:VCALENDAR
