BEGIN:VCALENDAR
VERSION:2.0
PRODID:-//DeckCMS//Events//EN
BEGIN:VEVENT
UID:019d7374-f862-7329-a64f-38e6a8c5d677@oconee.deckcms.com
DTSTAMP:20260421T203605Z
SUMMARY:Non-Profit Alliance Meeting - April
DESCRIPTION:
DTSTART:20260415T130000Z
DTEND:20260415T140000Z
LOCATION:136 E Main Street\, Westminster\, SC\, 29693
END:VEVENT
END:VCALENDAR
